BEGIN:VCALENDAR
VERSION:2.0
PRODID:-//Waco Regional Tennis &amp; Fitness - ECPv5.11.0//NONSGML v1.0//EN
CALSCALE:GREGORIAN
METHOD:PUBLISH
X-WR-CALNAME:Waco Regional Tennis &amp; Fitness
X-ORIGINAL-URL:https://www.wacotennis.com
X-WR-CALDESC:Events for Waco Regional Tennis &amp; Fitness
BEGIN:VTIMEZONE
TZID:America/Chicago
BEGIN:DAYLIGHT
TZOFFSETFROM:-0600
TZOFFSETTO:-0500
TZNAME:CDT
DTSTART:20260308T080000
END:DAYLIGHT
BEGIN:STANDARD
TZOFFSETFROM:-0500
TZOFFSETTO:-0600
TZNAME:CST
DTSTART:20261101T070000
END:STANDARD
END:VTIMEZONE
BEGIN:VEVENT
DTSTART;TZID=America/Chicago:20260511T090000
DTEND;TZID=America/Chicago:20260511T103000
DTSTAMP:20260420T032336
CREATED:20250206T164210Z
LAST-MODIFIED:20250501T005413Z
UID:28739-1778490000-1778495400@www.wacotennis.com
SUMMARY:3.0-3.5 Adult Tennis Clinic w/Holt
DESCRIPTION:Sign up on our TeamReach app\, or just show up! \n$25 member / $35 guest
URL:https://www.wacotennis.com/event/3-0-3-5-adult-tennis-clinic-w-holt/2026-05-11/
LOCATION:Stadium Court
CATEGORIES:Tennis & Pickleball
END:VEVENT
BEGIN:VEVENT
DTSTART;TZID=America/Chicago:20260511T180000
DTEND;TZID=America/Chicago:20260511T193000
DTSTAMP:20260420T032336
CREATED:20250206T164914Z
LAST-MODIFIED:20250501T005532Z
UID:28561-1778522400-1778527800@www.wacotennis.com
SUMMARY:Advanced Beginner Adult Tennis Clinic w/Holt
DESCRIPTION:Sign up on our TeamReach app\, or just show up! \n$25 member / $35 guest
URL:https://www.wacotennis.com/event/advanced-beginner-adult-tennis-clinic-w-holt/2026-05-11/
LOCATION:Stadium Court
CATEGORIES:Tennis & Pickleball
END:VEVENT
BEGIN:VEVENT
DTSTART;TZID=America/Chicago:20260511T180000
DTEND;TZID=America/Chicago:20260511T193000
DTSTAMP:20260420T032336
CREATED:20250501T010737Z
LAST-MODIFIED:20251012T205154Z
UID:36139-1778522400-1778527800@www.wacotennis.com
SUMMARY:Beginner Adult Tennis Clinic w/Holt
DESCRIPTION:Sign up on our TeamReach app\, or just show up! $25 member / $35 guest
URL:https://www.wacotennis.com/event/beginner-adult-tennis-clinic-w-holt/2026-05-11/
LOCATION:Stadium Court
CATEGORIES:Tennis & Pickleball
END:VEVENT
BEGIN:VEVENT
DTSTART;TZID=America/Chicago:20260512T173000
DTEND;TZID=America/Chicago:20260512T190000
DTSTAMP:20260420T032336
CREATED:20250206T165031Z
LAST-MODIFIED:20250206T165031Z
UID:35751-1778607000-1778612400@www.wacotennis.com
SUMMARY:Tipsy Tuesday Mixed Open Play w/Holt
DESCRIPTION:Sign up on our TeamReach app\, or just show up. Enjoy complimentary wine or beer afterwards! \n$25 member / $35 guest
URL:https://www.wacotennis.com/event/ladies-night-adult-tennis-games-w-holt/2026-05-12/
LOCATION:Stadium Court
CATEGORIES:Tennis & Pickleball
END:VEVENT
BEGIN:VEVENT
DTSTART;TZID=America/Chicago:20260513T083000
DTEND;TZID=America/Chicago:20260513T100000
DTSTAMP:20260420T032336
CREATED:20250206T170335Z
LAST-MODIFIED:20260407T044126Z
UID:36867-1778661000-1778666400@www.wacotennis.com
SUMMARY:3.5-4.0 Advanced Adult Tennis Clinic w/Holt
DESCRIPTION:Sign up on our TeamReach app\, or just show up! \n$25 member / $35 guest
URL:https://www.wacotennis.com/event/3-5-4-0-adult-tennis-clinic-w-holt-2/2026-05-13/
LOCATION:Stadium Court
CATEGORIES:Tennis & Pickleball
END:VEVENT
BEGIN:VEVENT
DTSTART;TZID=America/Chicago:20260514T090000
DTEND;TZID=America/Chicago:20260514T103000
DTSTAMP:20260420T032336
CREATED:20250206T165134Z
LAST-MODIFIED:20250619T160748Z
UID:29450-1778749200-1778754600@www.wacotennis.com
SUMMARY:3.0-3.5 Adult Tennis Clinic w/Clay
DESCRIPTION:Sign up on our TeamReach app\, or just show up! \n$25 member / $35 guest
URL:https://www.wacotennis.com/event/3-0-3-5-adult-tennis-clinic-w-clay-2/2026-05-14/
LOCATION:Stadium Court
CATEGORIES:Tennis & Pickleball
END:VEVENT
BEGIN:VEVENT
DTSTART;TZID=America/Chicago:20260514T180000
DTEND;TZID=America/Chicago:20260514T193000
DTSTAMP:20260420T032336
CREATED:20250501T010737Z
LAST-MODIFIED:20251012T205154Z
UID:41369-1778781600-1778787000@www.wacotennis.com
SUMMARY:Beginner Adult Tennis Clinic w/Holt
DESCRIPTION:Sign up on our TeamReach app\, or just show up! $25 member / $35 guest
URL:https://www.wacotennis.com/event/beginner-adult-tennis-clinic-w-holt/2026-05-14/
LOCATION:Stadium Court
CATEGORIES:Tennis & Pickleball
END:VEVENT
BEGIN:VEVENT
DTSTART;TZID=America/Chicago:20260516T083000
DTEND;TZID=America/Chicago:20260516T093000
DTSTAMP:20260420T032336
CREATED:20250501T010737Z
LAST-MODIFIED:20251012T205155Z
UID:41370-1778920200-1778923800@www.wacotennis.com
SUMMARY:Beginner Adult Tennis Clinic w/Holt
DESCRIPTION:Sign up on our TeamReach app\, or just show up! $25 member / $35 guest
URL:https://www.wacotennis.com/event/beginner-adult-tennis-clinic-w-holt/2026-05-16/
LOCATION:Stadium Court
CATEGORIES:Tennis & Pickleball
END:VEVENT
BEGIN:VEVENT
DTSTART;TZID=America/Chicago:20260518T090000
DTEND;TZID=America/Chicago:20260518T103000
DTSTAMP:20260420T032336
CREATED:20250206T164210Z
LAST-MODIFIED:20250501T005414Z
UID:28740-1779094800-1779100200@www.wacotennis.com
SUMMARY:3.0-3.5 Adult Tennis Clinic w/Holt
DESCRIPTION:Sign up on our TeamReach app\, or just show up! \n$25 member / $35 guest
URL:https://www.wacotennis.com/event/3-0-3-5-adult-tennis-clinic-w-holt/2026-05-18/
LOCATION:Stadium Court
CATEGORIES:Tennis & Pickleball
END:VEVENT
BEGIN:VEVENT
DTSTART;TZID=America/Chicago:20260518T180000
DTEND;TZID=America/Chicago:20260518T193000
DTSTAMP:20260420T032336
CREATED:20250206T164914Z
LAST-MODIFIED:20250501T005532Z
UID:28562-1779127200-1779132600@www.wacotennis.com
SUMMARY:Advanced Beginner Adult Tennis Clinic w/Holt
DESCRIPTION:Sign up on our TeamReach app\, or just show up! \n$25 member / $35 guest
URL:https://www.wacotennis.com/event/advanced-beginner-adult-tennis-clinic-w-holt/2026-05-18/
LOCATION:Stadium Court
CATEGORIES:Tennis & Pickleball
END:VEVENT
BEGIN:VEVENT
DTSTART;TZID=America/Chicago:20260518T180000
DTEND;TZID=America/Chicago:20260518T193000
DTSTAMP:20260420T032336
CREATED:20250501T010737Z
LAST-MODIFIED:20251012T205156Z
UID:36141-1779127200-1779132600@www.wacotennis.com
SUMMARY:Beginner Adult Tennis Clinic w/Holt
DESCRIPTION:Sign up on our TeamReach app\, or just show up! $25 member / $35 guest
URL:https://www.wacotennis.com/event/beginner-adult-tennis-clinic-w-holt/2026-05-18/
LOCATION:Stadium Court
CATEGORIES:Tennis & Pickleball
END:VEVENT
BEGIN:VEVENT
DTSTART;TZID=America/Chicago:20260519T173000
DTEND;TZID=America/Chicago:20260519T190000
DTSTAMP:20260420T032336
CREATED:20250206T165031Z
LAST-MODIFIED:20250206T165031Z
UID:35752-1779211800-1779217200@www.wacotennis.com
SUMMARY:Tipsy Tuesday Mixed Open Play w/Holt
DESCRIPTION:Sign up on our TeamReach app\, or just show up. Enjoy complimentary wine or beer afterwards! \n$25 member / $35 guest
URL:https://www.wacotennis.com/event/ladies-night-adult-tennis-games-w-holt/2026-05-19/
LOCATION:Stadium Court
CATEGORIES:Tennis & Pickleball
END:VEVENT
BEGIN:VEVENT
DTSTART;TZID=America/Chicago:20260520T083000
DTEND;TZID=America/Chicago:20260520T100000
DTSTAMP:20260420T032336
CREATED:20250206T170335Z
LAST-MODIFIED:20260407T044126Z
UID:36868-1779265800-1779271200@www.wacotennis.com
SUMMARY:3.5-4.0 Advanced Adult Tennis Clinic w/Holt
DESCRIPTION:Sign up on our TeamReach app\, or just show up! \n$25 member / $35 guest
URL:https://www.wacotennis.com/event/3-5-4-0-adult-tennis-clinic-w-holt-2/2026-05-20/
LOCATION:Stadium Court
CATEGORIES:Tennis & Pickleball
END:VEVENT
BEGIN:VEVENT
DTSTART;TZID=America/Chicago:20260521T090000
DTEND;TZID=America/Chicago:20260521T103000
DTSTAMP:20260420T032336
CREATED:20250206T165134Z
LAST-MODIFIED:20250619T160748Z
UID:29451-1779354000-1779359400@www.wacotennis.com
SUMMARY:3.0-3.5 Adult Tennis Clinic w/Clay
DESCRIPTION:Sign up on our TeamReach app\, or just show up! \n$25 member / $35 guest
URL:https://www.wacotennis.com/event/3-0-3-5-adult-tennis-clinic-w-clay-2/2026-05-21/
LOCATION:Stadium Court
CATEGORIES:Tennis & Pickleball
END:VEVENT
BEGIN:VEVENT
DTSTART;TZID=America/Chicago:20260521T180000
DTEND;TZID=America/Chicago:20260521T193000
DTSTAMP:20260420T032336
CREATED:20250501T010737Z
LAST-MODIFIED:20251012T205156Z
UID:41371-1779386400-1779391800@www.wacotennis.com
SUMMARY:Beginner Adult Tennis Clinic w/Holt
DESCRIPTION:Sign up on our TeamReach app\, or just show up! $25 member / $35 guest
URL:https://www.wacotennis.com/event/beginner-adult-tennis-clinic-w-holt/2026-05-21/
LOCATION:Stadium Court
CATEGORIES:Tennis & Pickleball
END:VEVENT
BEGIN:VEVENT
DTSTART;TZID=America/Chicago:20260523T083000
DTEND;TZID=America/Chicago:20260523T093000
DTSTAMP:20260420T032336
CREATED:20250501T010737Z
LAST-MODIFIED:20251012T205156Z
UID:41372-1779525000-1779528600@www.wacotennis.com
SUMMARY:Beginner Adult Tennis Clinic w/Holt
DESCRIPTION:Sign up on our TeamReach app\, or just show up! $25 member / $35 guest
URL:https://www.wacotennis.com/event/beginner-adult-tennis-clinic-w-holt/2026-05-23/
LOCATION:Stadium Court
CATEGORIES:Tennis & Pickleball
END:VEVENT
BEGIN:VEVENT
DTSTART;TZID=America/Chicago:20260525T090000
DTEND;TZID=America/Chicago:20260525T103000
DTSTAMP:20260420T032336
CREATED:20250206T164210Z
LAST-MODIFIED:20250501T005414Z
UID:28741-1779699600-1779705000@www.wacotennis.com
SUMMARY:3.0-3.5 Adult Tennis Clinic w/Holt
DESCRIPTION:Sign up on our TeamReach app\, or just show up! \n$25 member / $35 guest
URL:https://www.wacotennis.com/event/3-0-3-5-adult-tennis-clinic-w-holt/2026-05-25/
LOCATION:Stadium Court
CATEGORIES:Tennis & Pickleball
END:VEVENT
BEGIN:VEVENT
DTSTART;TZID=America/Chicago:20260525T180000
DTEND;TZID=America/Chicago:20260525T193000
DTSTAMP:20260420T032336
CREATED:20250206T164914Z
LAST-MODIFIED:20250501T005532Z
UID:28563-1779732000-1779737400@www.wacotennis.com
SUMMARY:Advanced Beginner Adult Tennis Clinic w/Holt
DESCRIPTION:Sign up on our TeamReach app\, or just show up! \n$25 member / $35 guest
URL:https://www.wacotennis.com/event/advanced-beginner-adult-tennis-clinic-w-holt/2026-05-25/
LOCATION:Stadium Court
CATEGORIES:Tennis & Pickleball
END:VEVENT
BEGIN:VEVENT
DTSTART;TZID=America/Chicago:20260525T180000
DTEND;TZID=America/Chicago:20260525T193000
DTSTAMP:20260420T032336
CREATED:20250501T010737Z
LAST-MODIFIED:20251012T205156Z
UID:36143-1779732000-1779737400@www.wacotennis.com
SUMMARY:Beginner Adult Tennis Clinic w/Holt
DESCRIPTION:Sign up on our TeamReach app\, or just show up! $25 member / $35 guest
URL:https://www.wacotennis.com/event/beginner-adult-tennis-clinic-w-holt/2026-05-25/
LOCATION:Stadium Court
CATEGORIES:Tennis & Pickleball
END:VEVENT
BEGIN:VEVENT
DTSTART;TZID=America/Chicago:20260526T173000
DTEND;TZID=America/Chicago:20260526T190000
DTSTAMP:20260420T032336
CREATED:20250206T165031Z
LAST-MODIFIED:20250206T165031Z
UID:35753-1779816600-1779822000@www.wacotennis.com
SUMMARY:Tipsy Tuesday Mixed Open Play w/Holt
DESCRIPTION:Sign up on our TeamReach app\, or just show up. Enjoy complimentary wine or beer afterwards! \n$25 member / $35 guest
URL:https://www.wacotennis.com/event/ladies-night-adult-tennis-games-w-holt/2026-05-26/
LOCATION:Stadium Court
CATEGORIES:Tennis & Pickleball
END:VEVENT
BEGIN:VEVENT
DTSTART;TZID=America/Chicago:20260527T083000
DTEND;TZID=America/Chicago:20260527T100000
DTSTAMP:20260420T032336
CREATED:20250206T170335Z
LAST-MODIFIED:20260407T044126Z
UID:36869-1779870600-1779876000@www.wacotennis.com
SUMMARY:3.5-4.0 Advanced Adult Tennis Clinic w/Holt
DESCRIPTION:Sign up on our TeamReach app\, or just show up! \n$25 member / $35 guest
URL:https://www.wacotennis.com/event/3-5-4-0-adult-tennis-clinic-w-holt-2/2026-05-27/
LOCATION:Stadium Court
CATEGORIES:Tennis & Pickleball
END:VEVENT
BEGIN:VEVENT
DTSTART;TZID=America/Chicago:20260528T090000
DTEND;TZID=America/Chicago:20260528T103000
DTSTAMP:20260420T032336
CREATED:20250206T165134Z
LAST-MODIFIED:20250619T160748Z
UID:29452-1779958800-1779964200@www.wacotennis.com
SUMMARY:3.0-3.5 Adult Tennis Clinic w/Clay
DESCRIPTION:Sign up on our TeamReach app\, or just show up! \n$25 member / $35 guest
URL:https://www.wacotennis.com/event/3-0-3-5-adult-tennis-clinic-w-clay-2/2026-05-28/
LOCATION:Stadium Court
CATEGORIES:Tennis & Pickleball
END:VEVENT
BEGIN:VEVENT
DTSTART;TZID=America/Chicago:20260528T180000
DTEND;TZID=America/Chicago:20260528T193000
DTSTAMP:20260420T032336
CREATED:20250501T010737Z
LAST-MODIFIED:20251012T205156Z
UID:41373-1779991200-1779996600@www.wacotennis.com
SUMMARY:Beginner Adult Tennis Clinic w/Holt
DESCRIPTION:Sign up on our TeamReach app\, or just show up! $25 member / $35 guest
URL:https://www.wacotennis.com/event/beginner-adult-tennis-clinic-w-holt/2026-05-28/
LOCATION:Stadium Court
CATEGORIES:Tennis & Pickleball
END:VEVENT
BEGIN:VEVENT
DTSTART;TZID=America/Chicago:20260530T083000
DTEND;TZID=America/Chicago:20260530T093000
DTSTAMP:20260420T032336
CREATED:20250501T010737Z
LAST-MODIFIED:20251012T205156Z
UID:41374-1780129800-1780133400@www.wacotennis.com
SUMMARY:Beginner Adult Tennis Clinic w/Holt
DESCRIPTION:Sign up on our TeamReach app\, or just show up! $25 member / $35 guest
URL:https://www.wacotennis.com/event/beginner-adult-tennis-clinic-w-holt/2026-05-30/
LOCATION:Stadium Court
CATEGORIES:Tennis & Pickleball
END:VEVENT
BEGIN:VEVENT
DTSTART;TZID=America/Chicago:20260601T090000
DTEND;TZID=America/Chicago:20260601T103000
DTSTAMP:20260420T032336
CREATED:20250206T164210Z
LAST-MODIFIED:20250501T005414Z
UID:28742-1780304400-1780309800@www.wacotennis.com
SUMMARY:3.0-3.5 Adult Tennis Clinic w/Holt
DESCRIPTION:Sign up on our TeamReach app\, or just show up! \n$25 member / $35 guest
URL:https://www.wacotennis.com/event/3-0-3-5-adult-tennis-clinic-w-holt/2026-06-01/
LOCATION:Stadium Court
CATEGORIES:Tennis & Pickleball
END:VEVENT
BEGIN:VEVENT
DTSTART;TZID=America/Chicago:20260601T180000
DTEND;TZID=America/Chicago:20260601T193000
DTSTAMP:20260420T032336
CREATED:20250206T164914Z
LAST-MODIFIED:20250501T005532Z
UID:28564-1780336800-1780342200@www.wacotennis.com
SUMMARY:Advanced Beginner Adult Tennis Clinic w/Holt
DESCRIPTION:Sign up on our TeamReach app\, or just show up! \n$25 member / $35 guest
URL:https://www.wacotennis.com/event/advanced-beginner-adult-tennis-clinic-w-holt/2026-06-01/
LOCATION:Stadium Court
CATEGORIES:Tennis & Pickleball
END:VEVENT
BEGIN:VEVENT
DTSTART;TZID=America/Chicago:20260601T180000
DTEND;TZID=America/Chicago:20260601T193000
DTSTAMP:20260420T032336
CREATED:20250501T010737Z
LAST-MODIFIED:20251012T205157Z
UID:36145-1780336800-1780342200@www.wacotennis.com
SUMMARY:Beginner Adult Tennis Clinic w/Holt
DESCRIPTION:Sign up on our TeamReach app\, or just show up! $25 member / $35 guest
URL:https://www.wacotennis.com/event/beginner-adult-tennis-clinic-w-holt/2026-06-01/
LOCATION:Stadium Court
CATEGORIES:Tennis & Pickleball
END:VEVENT
BEGIN:VEVENT
DTSTART;TZID=America/Chicago:20260602T173000
DTEND;TZID=America/Chicago:20260602T190000
DTSTAMP:20260420T032336
CREATED:20250206T165031Z
LAST-MODIFIED:20250206T165031Z
UID:35754-1780421400-1780426800@www.wacotennis.com
SUMMARY:Tipsy Tuesday Mixed Open Play w/Holt
DESCRIPTION:Sign up on our TeamReach app\, or just show up. Enjoy complimentary wine or beer afterwards! \n$25 member / $35 guest
URL:https://www.wacotennis.com/event/ladies-night-adult-tennis-games-w-holt/2026-06-02/
LOCATION:Stadium Court
CATEGORIES:Tennis & Pickleball
END:VEVENT
BEGIN:VEVENT
DTSTART;TZID=America/Chicago:20260603T083000
DTEND;TZID=America/Chicago:20260603T100000
DTSTAMP:20260420T032336
CREATED:20250206T170335Z
LAST-MODIFIED:20260407T044127Z
UID:36870-1780475400-1780480800@www.wacotennis.com
SUMMARY:3.5-4.0 Advanced Adult Tennis Clinic w/Holt
DESCRIPTION:Sign up on our TeamReach app\, or just show up! \n$25 member / $35 guest
URL:https://www.wacotennis.com/event/3-5-4-0-adult-tennis-clinic-w-holt-2/2026-06-03/
LOCATION:Stadium Court
CATEGORIES:Tennis & Pickleball
END:VEVENT
BEGIN:VEVENT
DTSTART;TZID=America/Chicago:20260604T090000
DTEND;TZID=America/Chicago:20260604T103000
DTSTAMP:20260420T032336
CREATED:20250206T165134Z
LAST-MODIFIED:20250619T160749Z
UID:29453-1780563600-1780569000@www.wacotennis.com
SUMMARY:3.0-3.5 Adult Tennis Clinic w/Clay
DESCRIPTION:Sign up on our TeamReach app\, or just show up! \n$25 member / $35 guest
URL:https://www.wacotennis.com/event/3-0-3-5-adult-tennis-clinic-w-clay-2/2026-06-04/
LOCATION:Stadium Court
CATEGORIES:Tennis & Pickleball
END:VEVENT
END:VCALENDAR